Workbook

Sheet Sheet1
B1: TRINITY BANK N.A.
B2: (Unaudited)
B3: (Dollars in thousands, except per share data)
C6: Quarter Ended | G6: Six Months Ending
C7: June 30 | E7: % | G7: June 30 | I7: %
B8: EARNINGS SUMMARY | C8: 2021 | D8: 2020 | E8: Change | G8: 2021 | H8: 2020 | I8: Change
B10: Interest income | C10: =3184+622 -> 3806 | D10: =2459+583 -> 3042 | E10: =+(C10-D10)/D10 -> 0.25115056 | G10: =6219+1243 -> 7462 | H10: 5964 | I10: =+(G10-H10)/H10 -> 0.25117371
B11: Interest expense | C11: 144 | D11: 188 | E11: =+(C11-D11)/D11 -> -0.23404255 | G11: 276 | H11: 569 | I11: =+(G11-H11)/H11 -> -0.51493849
B12: Net Interest Income | C12: =+C10-C11 -> 3662 | D12: =+D10-D11 -> 2854 | E12: =+(C12-D12)/D12 -> 0.28311142 | G12: =+G10-G11 -> 7186 | H12: =+H10-H11 -> 5395 | I12: =+(G12-H12)/H12 -> 0.33197405
A14: A | B14: Service charges on deposits | C14: =14+37+7 -> 58 | D14: =13+21+5 -> 39 | E14: =+(C14-D14)/D14 -> 0.48717949 | G14: =30+71+14 -> 115 | H14: 89 | I14: =+(G14-H14)/H14 -> 0.29213483
A15: B | B15: Other income | C15: =162-C14 -> 104 | D15: 79 | E15: =+(C15-D15)/D15 -> 0.3164557 | G15: =310-G14 -> 195 | H15: 159 | I15: =+(G15-H15)/H15 -> 0.22641509
B16: Total Non Interest Income | C16: =SUM(C14:C15) -> 162 | D16: =SUM(D14:D15) -> 118 | E16: =+(C16-D16)/D16 -> 0.37288136 | G16: =SUM(G14:G15) -> 310 | H16: =SUM(H14:H15) -> 248 | I16: =+(G16-H16)/H16 -> 0.25
B18: Salaries and benefits expense | C18: 1080 | D18: 1037 | E18: =+(C18-D18)/D18 -> 0.041465767 | G18: 2039 | H18: 1892 | I18: =+(G18-H18)/H18 -> 0.07769556
B19: Occupancy and equipment expense | C19: =49+65 -> 114 | D19: =81+59-27 -> 113 | E19: =+(C19-D19)/D19 -> 0.0088495575 | G19: =104+134 -> 238 | H19: 228 | I19: =+(G19-H19)/H19 -> 0.043859649
B20: Other expense | C20: =13+108+31+15+788-550 -> 405 | D20: =27+23+93+53+6+335-125 -> 412 | E20: =+(C20-D20)/D20 -> -0.016990291 | G20: =99+216+64+21+1611-1100-1 -> 910 | H20: 814 | I20: =+(G20-H20)/H20 -> 0.11793612
B21: Total Non Interest Expense | C21: =SUM(C18:C20) -> 1599 | D21: =SUM(D18:D20) -> 1562 | E21: =+(C21-D21)/D21 -> 0.02368758 | G21: =SUM(G18:G20) -> 3187 | H21: =SUM(H18:H20) -> 2934 | I21: =+(G21-H21)/H21 -> 0.086230402
B23: Pretax pre-provision income | C23: =+C12+C16-C21 -> 2225 | D23: =+D12+D16-D21 -> 1410 | E23: =+(C23-D23)/D23 -> 0.57801418 | G23: =+G12+G16-G21 -> 4309 | H23: =+H12+H16-H21 -> 2709 | I23: =+(G23-H23)/H23 -> 0.59062385
B25: Gain on sale of securities | C25: 0 | D25: 0 | E25: N/M | G25: 0 | H25: 0 | I25: N/M
B26: Gain on sale of foreclosed assets | C26: 0 | D26: 0 | E26: N/M | G26: 0 | H26: 0 | I26: N/M
B27: Gain on sale of assets | C27: 0 | D27: 0 | E27: N/M | G27: 0 | H27: 0 | I27: N/M
B29: Provision for Loan Losses | C29: 550 | D29: 125 | E29: =+(C29-D29)/D29 -> 3.4 | G29: 1100 | H29: 125 | I29: =+(G29-H29)/H29 -> 7.8
B31: Earnings before income taxes | C31: =+C23+C25+C26-C29+C27 -> 1675 | D31: =+D23+D25+D26-D29+D27 -> 1285 | E31: =+(C31-D31)/D31 -> 0.30350195 | G31: =+G23+G25+G26-G29+G27 -> 3209 | H31: =+H23+H25+H26-H29+H27 -> 2584 | I31: =+(G31-H31)/H31 -> 0.24187307
B32: Provision for income taxes | C32: 249 | D32: 155 | E32: N/M | G32: 455 | H32: 330 | I32: =+(G32-H32)/H32 -> 0.37878788
B34: Net Earnings | C34: =+C31-C32 -> 1426 | D34: =+D31-D32 -> 1130 | E34: =+(C34-D34)/D34 -> 0.2619469 | G34: =+G31-G32 -> 2754 | H34: =+H31-H32 -> 2254 | I34: =+(G34-H34)/H34 -> 0.22182786
B36: Basic earnings per share | C36: =+C34/C37 -> 1.3154982 | D36: 1.04 | E36: =+(C36-D36)/D36 -> 0.26490207 | G36: =+G34/G37 -> 2.5476411 | H36: 2.07 | I36: =+(G36-H36)/H36 -> 0.23074448
A37: C | B37: Basic weighted average shares | C37: 1084 | D37: 1086 | G37: 1081 | H37: 1087
B38: outstanding
B40: Diluted earnings per share - estimate | C40: 1.26 | D40: 1 | E40: =+(C40-D40)/D40 -> 0.26 | G40: =+G34/G41 -> 2.4436557 | H40: 1.99 | I40: =+(G40-H40)/H40 -> 0.2279677
A41: D | B41: Diluted weighted average shares outstanding | C41: =+C37+46 -> 1130 | D41: 1133 | G41: =+G37+46 -> 1127 | H41: 1134
C45: Average for Quarter | G45: Average for Six Months
C46: June 30 | E46: % | G46: June 30 | I46: %
B47: BALANCE SHEET SUMMARY | C47: 2021 | D47: 2020 | E47: Change | G47: 2021 | H47: 2020 | I47: Change
A49: E | B49: Total loans | C49: 261273 | D49: 212258 | E49: =+(C49-D49)/D49 -> 0.2309218 | G49: 262025 | H49: =190745+67 -> 190812 | I49: =+(G49-H49)/H49 -> 0.37321028
A50: F | B50: Total short term investments | C50: =27838+404 -> 28242 | D50: 41211 | E50: =+(C50-D50)/D50 -> -0.31469753 | G50: =19531+400 -> 19931 | H50: =39668+393 -> 40061 | I50: =+(G50-H50)/H50 -> -0.50248371
A51: G | B51: Total investment securities | C51: =2198+93955 -> 96153 | D51: =81101+395 -> 81496 | E51: =+(C51-D51)/D51 -> 0.17984932 | G51: 95251 | H51: 77753 | I51: =+(G51-H51)/H51 -> 0.22504598
B53: Earning assets | C53: =SUM(C49:C52) -> 385668 | D53: =SUM(D49:D52) -> 334965 | E53: =+(C53-D53)/D53 -> 0.15136805 | G53: =SUM(G49:G52) -> 377207 | H53: =SUM(H49:H52) -> 308626 | I53: =+(G53-H53)/H53 -> 0.22221394
B55: Total assets | C55: 391571 | D55: 342369 | E55: =+(C55-D55)/D55 -> 0.14371044 | G55: 383478 | H55: 316082 | I55: =+(G55-H55)/H55 -> 0.21322315
B57: Noninterest bearing deposits | C57: =347865-C58 -> 136853 | D57: 122409 | E57: =+(C57-D57)/D57 -> 0.11799786 | G57: =340269-G58 -> 142334 | H57: 105435 | I57: =+(G57-H57)/H57 -> 0.34996918
B58: Interest bearing deposits | C58: 211012 | D58: 180558 | E58: =+(C58-D58)/D58 -> 0.16866602 | G58: =30827+90+87+2679+115986+48266 -> 197935 | H58: 171387 | I58: =+(G58-H58)/H58 -> 0.1549009
B60: Total deposits | C60: =+C57+C58 -> 347865 | D60: =+D57+D58 -> 302967 | E60: =+(C60-D60)/D60 -> 0.14819436 | G60: =+G57+G58 -> 340269 | H60: =+H57+H58 -> 276822 | I60: =+(G60-H60)/H60 -> 0.22919782
...

Sheet Sheet2
B1: TRINITY BANK N.A.
B2: (Unaudited)
B3: (Dollars in thousands, except per share data)
C6: Average for Quarter Ending
C7: June 30, | D7: March 31, | E7: Dec 31, | F7: Sept. 30, | G7: June 30,
B8: BALANCE SHEET SUMMARY | C8: 2021 | D8: 2021 | E8: 2020 | F8: 2020 | G8: 2020
B10: Total loans | C10: 261273 | D10: 262840 | E10: 239440 | F10: 216454 | G10: 212337
B11: Total short term investments | C11: =27838+404 -> 28242 | D11: 11131 | E11: 23960 | F11: 32176 | G11: 41211
B12: Total investment securities | C12: =2198+93955 -> 96153 | D12: 94737 | E12: 93094 | F12: 92272 | G12: 81496
B14: Earning assets | C14: =SUM(C10:C13) -> 385668 | D14: 368708 | E14: 356494 | F14: 340902 | G14: 335044
B16: Total assets | C16: 391571 | D16: 375295 | E16: 363558 | F16: 342058 | G16: 342369
B18: Noninterest bearing deposits | C18: =347865-C19 -> 136853 | D18: 133541 | E18: 130114 | F18: 117655 | G18: 122409
B19: Interest bearing deposits | C19: 211012 | D19: 199047 | E19: 191654 | F19: 189053 | G19: 180558
B21: Total deposits | C21: =+C18+C19 -> 347865 | D21: 332588 | E21: 321768 | F21: 306708 | G21: 302967
B23: Fed Funds Purchased and Repurchase Agreements | C23: 0 | D23: 244 | E23: 0 | F23: 0 | G23: 0
B25: Shareholders' equity | C25: =42222-1986 -> 40236 | D25: 39352 | E25: 38084 | F25: 37602 | G25: 36611
C28: Quarter Ended
C29: June 30, | D29: March 31, | E29: Dec 31, | F29: Sept. 30, | G29: June 30,
B30: HISTORICAL EARNINGS SUMMARY | C30: 2021 | D30: 2021 | E30: 2020 | F30: 2020 | G30: 2020
B33: Interest income | C33: 3806 | D33: 3656 | E33: 3177 | F33: 2949 | G33: 3042
B34: Interest expense | C34: 144 | D34: 131 | E34: 129 | F34: 158 | G34: 188
B35: Net Interest Income | C35: 3662 | D35: =+D33-D34 -> 3525 | E35: 3048 | F35: 2791 | G35: 2854
B37: Service charges on deposits | C37: 58 | D37: 56 | E37: 61 | F37: 56 | G37: 39
B38: Other income | C38: 104 | D38: 91 | E38: 90 | F38: 86 | G38: 79
B39: Total Non Interest Income | C39: 162 | D39: =SUM(D37:D38) -> 147 | E39: 151 | F39: 142 | G39: 118
B41: Salaries and benefits expense | C41: 1080 | D41: 959 | E41: 977 | F41: 915 | G41: 1037
B42: Occupancy and equipment expense | C42: 114 | D42: 124 | E42: 119 | F42: 94 | G42: 113
B43: Other expense | C43: 405 | D43: 505 | E43: 362 | F43: 364 | G43: 412
B44: Total Non Interest Expense | C44: 1599 | D44: =SUM(D41:D43) -> 1588 | E44: 1458 | F44: 1373 | G44: 1562
B46: Pretax pre-provision income | C46: 2225 | D46: =+D35+D39-D44 -> 2084 | E46: 1741 | F46: 1560 | G46: 1410
B48: Gain on sale of securities | C48: 0 | D48: 0 | E48: -1 | F48: 0 | G48: 0
B49: Gain on sale of foreclosed assets | C49: 0 | D49: 0 | E49: 0 | F49: 18 | G49: 0
B50: Gain on sale of other assets | C50: 0 | D50: 0 | E50: 0 | F50: 0 | G50: 0
B52: Provision for Loan Losses | C52: 550 | D52: 550 | E52: 315 | F52: 200 | G52: 125
B54: Earnings before income taxes | C54: 1675 | D54: =+D46+D48+D49-D52+D50 -> 1534 | E54: 1425 | F54: 1378 | G54: 1285
B55: Provision for income taxes | C55: 249 | D55: 206 | E55: 179 | F55: 162 | G55: 155
B57: Net Earnings | C57: 1426 | D57: =+D54-D55 -> 1328 | E57: 1246 | F57: 1216 | G57: 1130
B59: Diluted earnings per share | C59: =+Sheet1!C40 -> 1.26 | D59: 1.18 | E59: 1.1 | F59: 1.08 | G59: 1

Sheet Sheet3
B1: TRINITY BANK N.A.
B2: (Unaudited)
B3: (Dollars in thousands, except per share data)
C7: Ending Balance
C8: June 30, | D8: March 31, | E8: Dec 31, | F8: Sept. 30, | G8: June 30,
B9: HISTORICAL BALANCE SHEET | C9: 2021 | D9: 2021 | E9: 2020 | F9: 2020 | G9: 2020
B11: Total loans | C11: 249390 | D11: 270619 | E11: 252207 | F11: 228473 | G11: 216848
B12: Total short term investments | C12: 31247 | D12: 10941 | E12: 24993 | F12: 16429 | G12: 38648
B13: Total investment securities | C13: =100095+404 -> 100499 | D13: =93211+404 -> 93615 | E13: 95244 | F13: 90606 | G13: 90658
B15: Total earning assets | C15: =SUM(C11:C14) -> 381136 | D15: =SUM(D11:D14) -> 375175 | E15: 372444 | F15: 335508 | G15: 346154
B17: Allowance for loan losses | C17: -4016 | D17: -3466 | E17: -2915 | F17: -2598 | G17: -2396
B18: Premises and equipment | C18: 2218 | D18: 2221 | E18: 2340 | F18: 2400 | G18: 2455
B19: Other Assets | C19: 10507 | D19: =352+1230+2+271+55+5734+1 -> 7645 | E19: 6237 | F19: 6748 | G19: 5673
B21: Total assets | C21: =SUM(C15:C20) -> 389845 | D21: =SUM(D15:D20) -> 381575 | E21: 378106 | F21: 342058 | G21: 351886
B23: Noninterest bearing deposits | C23: =345404-C24 -> 149049 | D23: 135920 | E23: 134692 | F23: 114284 | G23: 118933
B24: Interest bearing deposits | C24: =32722+91+95+3042+109975+50430 -> 196355 | D24: 202205 | E24: 201120 | F24: 186096 | G24: 192159
B26: Total deposits | C26: =SUM(C23:C25) -> 345404 | D26: =SUM(D23:D25) -> 338125 | E26: 335812 | F26: 300380 | G26: 311092
B28: Fed Funds Purchased and Repurchase Agreements | C28: 0 | D28: 0 | E28: 0 | F28: 0 | G28: 0
B29: Other Liabilities | C29: 1539 | D29: 2181 | E29: 1270 | F29: 2029 | G29: 1501
B31: Total liabilities | C31: =SUM(C26:C30) -> 346943 | D31: =SUM(D26:D30) -> 340306 | E31: 337082 | F31: 302409 | G31: 312593
B33: Shareholders' Equity Actual | C33: =42902-C34 -> 40957 | D33: =41269-D34 -> 39352 | E33: 38778 | F33: 37463 | G33: 37089
B34: Unrealized Gain - AFS | C34: 1945 | D34: 1917 | E34: 2246 | F34: 2186 | G34: 2203
B35: Total Equity | C35: =+C33+C34 -> 42902 | D35: =+D33+D34 -> 41269 | E35: 41024 | F35: 39649 | G35: 39292
C38: Quarter Ending
C39: June 30, | D39: March 31, | E39: Dec 31, | F39: Sept. 30, | G39: June 30,
B40: NONPERFORMING ASSETS | C40: 2021 | D40: 2021 | E40: 2020 | F40: 2020 | G40: 2020
B42: Nonaccrual loans | C42: 297 | D42: 321 | E42: 249 | F42: 266 | G42: 388
B43: Restructured loans | C43: 0 | D43: 0 | E43: 0 | F43: 0 | G43: 0
B44: Other real estate & foreclosed assets | C44: 0 | D44: 0 | E44: 0 | F44: 0 | G44: 320
B45: Accruing loans past due 90 days or more | C45: 0 | D45: 0 | E45: 0 | F45: 0 | G45: 0
B46: Total nonperforming assets | C46: =SUM(C42:C45) -> 297 | D46: =SUM(D42:D45) -> 321 | E46: 249 | F46: 266 | G46: 708
B48: Accruing loans past due 30-89 days | C48: 0 | D48: 0 | E48: 0 | F48: 0 | G48: 0
B50: Total nonperforming assets as a percentage
B51: of loans and foreclosed assets | C51: =+C46/C11 -> 0.0011909058 | D51: =+D46/D11 -> 0.0011861695 | E51: 0.00098728425 | F51: 0.0011642514 | G51: 0.0032649598

Sheet Sheet4
B1: TRINITY BANK N.A.
B2: (Unaudited)
B3: (Dollars in thousands, except per share data)
C7: Quarter Ending
B8: ALLOWANCE FOR | C8: June 30, | D8: March 31, | E8: Dec 31, | F8: Sept. 30, | G8: June 30,
B9: LOAN LOSSES | C9: 2021 | D9: 2021 | E9: 2020 | F9: 2020 | G9: 2020
B11: Balance at beginning of period | C11: =+D16 -> 3466 | D11: 2915 | E11: 2598 | F11: 2396 | G11: 2269
B12: Loans charged off | C12: 0 | D12: 0 | E12: 0 | F12: 0 | G12: 0
B13: Loan recoveries | C13: 0 | D13: 1 | E13: 2 | F13: 2 | G13: 2
B14: Net (charge-offs) recoveries | C14: =+C13-C12 -> 0 | D14: 1 | E14: 2 | F14: 2 | G14: 2
B15: Provision for loan losses | C15: 550 | D15: 550 | E15: 315 | F15: 200 | G15: 125
B16: Balance at end of period | C16: =+C11+C15+C14 -> 4016 | D16: 3466 | E16: 2915 | F16: 2598 | G16: 2396
B18: Allowance for loan losses | C18: =+C16/Sheet3!C11 -> 0.016103292 | D18: 0.012807674 | E18: 0.011557966 | F18: 0.011371147 | G18: 0.011049214
B19: as a percentage of total loans
B20: Allowance for loan losses net of PPP Loans | C20: =(4016/216005)/1 -> 0.018592162 | D20: 0.0162 | E20: 0.01460838 | F20: 0.0147774 | G20: 0.013639598
B21: as a percentage of total loans
B22: Allowance for loan losses | C22: =+C16/Sheet3!C46 -> 13.521886 | D22: 10.797508 | E22: 11.706827 | F22: 9.7669173 | G22: 3.3841808
B23: as a percentage of nonperforming assets
B24: Net charge-offs (recoveries) as a | C24: 0 | D24: 0 | E24: -8.3528233e-06 | F24: -9.2398385e-06 | G24: -9.4189896e-06
B25: percentage of average loans
B26: Provision for loan losses | C26: =+C15/Sheet1!C49 -> 0.0021050778 | D26: 0.0020925278 | E26: 0.0013155697 | F26: 0.00092398385 | G26: 0.00058868685
B27: as a percentage of average loans
C28: Quarter Ending
C29: June 30, | D29: March 31, | E29: Dec 31, | F29: Sept. 30, | G29: June 30,
B30: SELECTED RATIOS | C30: 2021 | D30: 2021 | E30: 2020 | F30: 2020 | G30: 2020
B32: Return on average assets (annualized) | C32: =+Sheet1!C34*4/Sheet1!C55 -> 0.014566962 | D32: 0.014154199 | E32: 0.013708954 | F32: 0.014219811 | G32: 0.01320213
B34: Return on average equity (annualized) | C34: =+Sheet1!C34*4/42222 -> 0.13509545 | D34: 0.12877888 | E34: 0.1215 | F34: 0.1219 | G34: 0.1188
B36: Return on average equity (excluding unrealized gain on investments) | C36: =+Sheet1!C34*4/Sheet1!C64 -> 0.14176359 | D36: 0.13556554 | E36: 0.1285 | F36: 0.1294 | G36: 0.1234
B38: Average shareholders' equity to average assets | C38: =+Sheet1!C64/Sheet1!C55 -> 0.10275531 | D38: 0.10485618 | E38: 0.10475357 | F38: 0.10992873 | G38: 0.10693433
B40: Yield on earning assets (tax equivalent) | C40: =+Sheet5!E20 -> 0.0411 | D40: 0.0414 | E40: 0.0388 | F40: 0.0365 | G40: 0.0381
B42: Effective Cost of Funds | C42: =+C40-C44 -> 0.0014 | D42: 0.0015 | E42: 0.0028 | F42: 0.0019 | G42: 0.0022
B44: Net interest margin (tax equivalent) | C44: =+Sheet5!E47 -> 0.0397 | D44: 0.0399 | E44: 0.036 | F44: 0.0346 | G44: 0.0359
B46: Efficiency ratio (tax equivalent) | C46: 0.4053 | D46: 0.414 | E46: 0.448 | F46: 0.504 | G46: 0.5155
B48: End of period book value per common share | C48: =42902/1087 -> 39.468261 | D48: 38.106187 | E48: 37.879963 | F48: 36.610342 | G48: 36.180479
B50: End of period book value (excluding unrealized gain on investments) | C50: =40957/C52 -> 37.678933 | D50: 36.336103 | E50: 35.806094 | F50: 34.591874 | G50: 34.151934
B52: End of period common shares outstanding (in 000's) | C52: 1087 | D52: 1083 | E52: 1083 | F52: 1083 | G52: 1086

Sheet Sheet5
A1: TRINITY BANK N.A.
A2: (Unaudited)
A3: (Dollars in thousands, except per share data)
B6: Quarter Ending
B7: June 30,2021 | G7: June 30,2020
E9: Tax | J9: Tax
B10: Average | E10: Equivalent | G10: Average | J10: Equivalent
A11: YIELD ANALYSIS | B11: Balance | C11: Interest | D11: Yield | E11: Yield | G11: Balance | H11: Interest | I11: Yield | J11: Yield
A13: Interest Earning Assets:
A14: Short term investment | B14: =27838 -> 27838 | C14: 11 | D14: =+C14*4/B14 -> 0.0015805733 | E14: =+D14 -> 0.0015805733 | G14: 41211 | H14: 13 | I14: =+H14*4/G14 -> 0.001261799 | J14: =+I14 -> 0.001261799
A15: FRB Stock | B15: 404 | C15: 6 | D15: 0.06 | E15: 0.06 | G15: 395 | H15: 6 | I15: 0.06 | J15: 0.06
A16: Taxable securities | B16: 2198 | C16: 0 | D16: 0 | E16: =+D16 -> 0 | G16: 0 | H16: 0 | I16: 0 | J16: =+I16 -> 0
A17: Tax Free securities | B17: =96153-B16 -> 93955 | C17: =679+71-145 -> 605 | D17: =+C17*4/B17 -> 0.025757011 | E17: =+((C17*4)/0.7898)/B17 -> 0.032612068 | G17: 81101 | H17: 564 | I17: =+H17*4/G17 -> 0.027817166 | J17: =+((H17*4)/0.7898)/G17 -> 0.035220519
A18: Loans | B18: 261273 | C18: 3184 | D18: =+C18*4/B18 -> 0.048745948 | E18: =+D18 -> 0.048745948 | G18: =212218+40 -> 212258 | H18: 2459 | I18: =+H18*4/G18 -> 0.046339832 | J18: =+I18 -> 0.046339832
A20: Total Interest Earning Assets | B20: =SUM(B14:B18) -> 385668 | C20: =SUM(C14:C18) -> 3806 | D20: =(+C20*4)/B20 -> 0.039474367 | E20: 0.0411 | G20: =SUM(G14:G18) -> 334965 | H20: =SUM(H14:H18) -> 3042 | I20: =(+H20*4)/G20 -> 0.036326183 | J20: 0.0381
A22: Noninterest Earning Assets:
A23: Cash and due from banks | B23: 5510 | G23: 5223
A24: Other assets | B24: 4095 | G24: 4453
A25: Allowance for loan losses | B25: -3702 | G25: -2272
A27: Total Noninterest Earning Assets | B27: =SUM(B23:B25) -> 5903 | G27: =SUM(G23:G25) -> 7404
A29: Total Assets | B29: =+B20+B27 -> 391571 | G29: =+G20+G27 -> 342369
A31: Interest Bearing Liabilities:
A32: Transaction and Money Market accounts | B32: =347865-51564-136853 -> 159448 | C32: =16+43+27+4 -> 90 | D32: =(+C32*4)/B32 -> 0.0022577894 | E32: =+D32 -> 0.0022577894 | G32: 138440 | H32: 25 | I32: =(+H32*4)/G32 -> 0.00072233459 | J32: =+I32 -> 0.00072233459
A33: Certificates and other time deposits | B33: =51564-B34 -> 41564 | C33: =3+2+4+35+10-C34 -> 41 | D33: =(+C33*4)/B33 -> 0.0039457223 | E33: =+D33 -> 0.0039457223 | G33: 42118 | H33: 163 | I33: =(+H33*4)/G33 -> 0.015480317 | J33: =+I33 -> 0.015480317
A34: Other borrowings | B34: 10000 | C34: 13 | D34: =(+C34*4)/B34 -> 0.0052 | E34: =+D34 -> 0.0052 | G34: 0 | H34: 0 | I34: 0 | J34: 0
A36: Total Interest Bearing Liabilities | B36: =SUM(B32:B34) -> 211012 | C36: =SUM(C32:C34) -> 144 | D36: =(+C36*4)/B36 -> 0.0027297026 | E36: =+D36 -> 0.0027297026 | G36: =SUM(G32:G34) -> 180558 | H36: =SUM(H32:H34) -> 188 | I36: =(+H36*4)/G36 -> 0.0041648667 | J36: =+I36 -> 0.0041648667
A38: Noninterest Bearing Liabilities:
A39: Demand deposits | B39: 136853 | G39: 73665
A40: Other liabilities | B40: 1484 | G40: 942
A41: Shareholders' Equity | B41: 42222 | G41: 35301
A43: Total Liabilities and Shareholders Equity | B43: =+B36+B39+B40+B41 -> 391571 | G43: 264826
A45: Net Interest Income and Spread | C45: =+C20-C36 -> 3662 | D45: =+D20-D36 -> 0.036744664 | E45: =+E20-E36 -> 0.038370297 | H45: =+H20-H36 -> 2854 | I45: =+I20-I36 -> 0.032161317 | J45: =+J20-J36 -> 0.033935133
A47: Net Interest Margin | D47: =+C45*4/B20 -> 0.037980854 | E47: 0.0397 | I47: =+H45*4/G20 -> 0.034081173 | J47: 0.0359

Sheet Sheet6
B1: TRINITY BANK N.A.
B2: (Unaudited)
B3: (Dollars in thousands, except per share data)
C6: June 30 | E6: June 30
C7: 2021 | D7: % | E7: 2020 | F7: %
B8: LOAN PORTFOLIO
B10: Commercial and industrial | C10: =115256-1041+8890+25416-70-85-850-143 -> 147373 | D10: =+C10/C17 -> 0.59093388 | E10: 140483 | F10: =+E10/E17 -> 0.64784088
B11: Real estate:
B12: Commercial | C12: =39245+22050-244 -> 61051 | D12: =+C12/C17 -> 0.24480132 | E12: 31017 | F12: =+E12/E17 -> 0.14303567
B13: Residential | C13: =5911+9539+1699 -> 17149 | D13: =+C13/C17 -> 0.068763784 | E13: 23043 | F13: =+E13/E17 -> 0.10626337
B14: Construction and development | C14: =5149+18327 -> 23476 | D14: =+C14/C17 -> 0.094133686 | E14: 21875 | F14: =+E14/E17 -> 0.10087711
B15: Consumer | C15: =261+80 -> 341 | D15: =+C15/C17 -> 0.0013673363 | E15: =81+253+96 -> 430 | F15: =+E15/E17 -> 0.0019829558
B17: Total loans (gross) | C17: =SUM(C10:C15) -> 249390 | D17: =SUM(D10:D15) -> 1 | E17: =SUM(E10:E15) -> 216848 | F17: =SUM(F10:F15) -> 1
B19: Unearned discounts | C19: 0 | D19: 0 | E19: 0 | F19: 0
B21: Total loans (net) | C21: =+C17-C19 -> 249390 | D21: 1 | E21: =+E17-E19 -> 216848 | F21: 1
C24: June 30 | E24: June 30
C25: 2020 | E25: 2020
B26: REGULATORY CAPITAL DATA
B27: Tier 1 Capital | C27: 40955 | E27: 37089
B28: Total Capital (Tier 1 + Tier 2) | C28: 42900 | E28: 39370
B29: Total Risk-Adjusted Assets | C29: 236963 | E29: 182279
B30: Tier 1 Risk-Based Capital Ratio | C30: 0.1728 | E30: 0.2035
B31: Total Risk-Based Capital Ratio | C31: 0.1854 | E31: 0.216
B32: Tier 1 Leverage Ratio | C32: 0.1054 | E32: 0.1083
B34: OTHER DATA
B35: Full Time Equivalent
B36: Employees (FTE's) | C36: 23 | E36: 23
B38: Stock Price Range
B39: (For the Three Months Ended):
B40: High | C40: 75 | E40: 64.98
B41: Low | C41: 61.31 | E41: 58.9
B42: Close | C42: 75 | E42: 60.5
